BEGIN:VCALENDAR
PRODID:-//Hannon Hill Events//Cascade CMS//EN
VERSION:2.0
X-WR-CALNAME:Group X 15-Minute Abs
X-WR-TIMEZONE:America/New_York
BEGIN:VTIMEZONE
TZID:America/New_York
BEGIN:DAYLIGHT
TZOFFSETFROM:-0500
TZOFFSETTO:-0400
TZNAME:EDT
DTSTART:19700308T020000
RRULE:FREQ=YEARLY;BYMONTH=3;BYDAY=2SU
END:DAYLIGHT
BEGIN:STANDARD
TZOFFSETFROM:-0400
TZOFFSETTO:-0500
TZNAME:EST
DTSTART:19701101T020000
RRULE:FREQ=YEARLY;BYMONTH=11;BYDAY=1SU
END:STANDARD
END:VTIMEZONE
BEGIN:VEVENT
DTSTART:20250416T110000
DTEND:20250416T120000
DTSTAMP:20260419T044859
UID:d95667bc0a000036694307964057add1
CREATED:20250516T094400
DESCRIPTION:
LAST-MODIFIED:20250516T094400
SEQUENCE:0
STATUS:CONFIRMED
SUMMARY:Group X 15-Minute Abs
TRANSP:OPAQUE
END:VEVENT
END:VCALENDAR
